BEGIN:VCALENDAR
VERSION:2.0
PRODID:-//Otamatea Marae - ECPv4.0.6//NONSGML v1.0//EN
CALSCALE:GREGORIAN
METHOD:PUBLISH
X-WR-CALNAME:Otamatea Marae
X-ORIGINAL-URL:https://www.otamateamarae.org.nz
X-WR-CALDESC:Events for Otamatea Marae
BEGIN:VEVENT
DTSTART;TZID="UTC+0":20181228T080000
DTEND;TZID="UTC+0":20190102T170000
DTSTAMP:20181221T201301
CREATED:20180823T004504
LAST-MODIFIED:20180823T004504
UID:1270-1545984000-1546448400@www.otamateamarae.org.nz
SUMMARY:Whānau booking (W Nopera)
DESCRIPTION:
URL:https://www.otamateamarae.org.nz/calendar/whanau-booking-w-nopera/
END:VEVENT
END:VCALENDAR