BEGIN:VCALENDAR
VERSION:2.0
PRODID:-//Otamatea Marae - ECPv4.0.6//NONSGML v1.0//EN
CALSCALE:GREGORIAN
METHOD:PUBLISH
X-WR-CALNAME:Otamatea Marae
X-ORIGINAL-URL:https://www.otamateamarae.org.nz
X-WR-CALDESC:Events for Otamatea Marae
BEGIN:VEVENT
DTSTART;TZID="UTC+0":20190202T100000
DTEND;TZID="UTC+0":20190202T140000
DTSTAMP:20181221T201221
CREATED:20181210T223945
LAST-MODIFIED:20181210T223945
UID:1302-1549101600-1549116000@www.otamateamarae.org.nz
SUMMARY:Annual General Meeting
DESCRIPTION:[et_pb_section bb_built="1"][et_pb_row][/et_pb_row][/et_pb_section]
URL:https://www.otamateamarae.org.nz/calendar/annual-general-meeting-2018/
LOCATION:Tanoa Road\, Maungaturoto\, Northland\, New Zealand
END:VEVENT
END:VCALENDAR