BEGIN:VCALENDAR
VERSION:2.0
PRODID:-//Otamatea Marae - ECPv4.0.6//NONSGML v1.0//EN
CALSCALE:GREGORIAN
METHOD:PUBLISH
X-WR-CALNAME:Otamatea Marae
X-ORIGINAL-URL:https://www.otamateamarae.org.nz
X-WR-CALDESC:Events for Otamatea Marae
BEGIN:VEVENT
DTSTART;VALUE=DATE:20180324
DTEND;VALUE=DATE:20180325
DTSTAMP:20181224T082721
CREATED:20170812
LAST-MODIFIED:20170812
UID:1257-1521849600-1522022399@www.otamateamarae.org.nz
SUMMARY:Ted Watts
DESCRIPTION:
URL:https://www.otamateamarae.org.nz/calendar/ted-watts/
END:VEVENT
END:VCALENDAR