BEGIN:VCALENDAR
VERSION:2.0
PRODID:-//Otamatea Marae - ECPv4.0.6//NONSGML v1.0//EN
CALSCALE:GREGORIAN
METHOD:PUBLISH
X-WR-CALNAME:Otamatea Marae
X-ORIGINAL-URL:https://www.otamateamarae.org.nz
X-WR-CALDESC:Events for Otamatea Marae
BEGIN:VEVENT
DTSTART;VALUE=DATE:20180316
DTEND;VALUE=DATE:20180318
DTSTAMP:20181224T082659
CREATED:20170424
LAST-MODIFIED:20170424
UID:1242-1521158400-1521417599@www.otamateamarae.org.nz
SUMMARY:Ruby Lewis (80th birthday)
DESCRIPTION:
URL:https://www.otamateamarae.org.nz/calendar/ruby-lewis-80th-birthday/
LOCATION:Tanoa Road\, Maungaturoto\, Northland\, New Zealand
END:VEVENT
END:VCALENDAR