BEGIN:VCALENDAR
VERSION:2.0
PRODID:-//Otamatea Marae - ECPv4.0.6//NONSGML v1.0//EN
CALSCALE:GREGORIAN
METHOD:PUBLISH
X-WR-CALNAME:Otamatea Marae
X-ORIGINAL-URL:https://www.otamateamarae.org.nz
X-WR-CALDESC:Events for Otamatea Marae
BEGIN:VEVENT
DTSTART;TZID="UTC+0":20180223T080000
DTEND;TZID="UTC+0":20180226T170000
DTSTAMP:20181224T082653
CREATED:20170517T005524
LAST-MODIFIED:20170517T005524
UID:1246-1519372800-1519664400@www.otamateamarae.org.nz
SUMMARY:Unveiling (Willie Paikea)
DESCRIPTION:
URL:https://www.otamateamarae.org.nz/calendar/unveiling-willie-paikea/
LOCATION:Tanoa Road\, Maungaturoto\, Northland\, New Zealand
END:VEVENT
END:VCALENDAR