BEGIN:VCALENDAR
VERSION:2.0
PRODID:-//Otamatea Marae - ECPv4.0.6//NONSGML v1.0//EN
CALSCALE:GREGORIAN
METHOD:PUBLISH
X-WR-CALNAME:Otamatea Marae
X-ORIGINAL-URL:https://www.otamateamarae.org.nz
X-WR-CALDESC:Events for Otamatea Marae
BEGIN:VEVENT
DTSTART;TZID="UTC+0":20180202T080000
DTEND;TZID="UTC+0":20180204T170000
DTSTAMP:20180124T134417
CREATED:20170517T003603
LAST-MODIFIED:20170517T003603
UID:1245-1517558400-1517763600@www.otamateamarae.org.nz
SUMMARY:Unveiling (Wairua Fairburn)
DESCRIPTION:
URL:https://www.otamateamarae.org.nz/calendar/unveiling-wairua-fairburn/
END:VEVENT
END:VCALENDAR